BEGIN:VCALENDAR
VERSION:2.0
PRODID:-//Royal QLD Art Society - ECPv5.0.3.1//NONSGML v1.0//EN
CALSCALE:GREGORIAN
METHOD:PUBLISH
X-WR-CALNAME:Royal QLD Art Society
X-ORIGINAL-URL:https://rqas.com.au
X-WR-CALDESC:Events for Royal QLD Art Society
BEGIN:VTIMEZONE
TZID:Australia/Brisbane
BEGIN:STANDARD
TZOFFSETFROM:+1000
TZOFFSETTO:+1000
TZNAME:AEST
DTSTART:20260101T000000
END:STANDARD
END:VTIMEZONE
BEGIN:VEVENT
DTSTART;VALUE=DATE:20260218
DTEND;VALUE=DATE:20260302
DTSTAMP:20260425T213235
CREATED:20250816T031054Z
LAST-MODIFIED:20260122T003619Z
UID:24938-1771372800-1772409599@rqas.com.au
SUMMARY:FRIENDS - Group Show
DESCRIPTION:[vc_row css=”.vc_custom_1523319263370{padding-top: 20px !important;padding-bottom: 30px !important;}”][vc_column][vc_separator color=”custom” border_width=”10″ accent_color=”#4ba686″][vc_column_text] \nFRIENDS brings together eight artists in a collective exhibition of art-makes with divergent art practices: Chrys Zantis; Gillian Richards; Laila Bjornsson; Lien Jansen; Dr Nicola Hooper; Ping Li; Rachael Lee; and Richard Blundell. \nThis exhibition\, which is on show at Petrie Terrace Gallery from Wednesday\, 18th of February to Sunday\, 1st of March\, celebrates a variety of themes and concepts\, by artists linked by a common goal – to create and to share their art\, and to invite visitors to experience something unique and thought provoking. Throughout the exhibition you will also have the opportunity to meet the artists and find out more about their backgrounds and practice. \nDr Christopher (Chris) Bennie\, Coordinator\, Logan Art Gallery\, will be opening the exhibition on Thursday\, 19th of February at 7 pm. \nThanks also to Dr Niomi Sands\, Manager\, Creative Industries\, Logan City Council has prepared the essay introduction for the FRIENDS catalogue.[/vc_column_text][vc_separator color=”custom” border_width=”10″ accent_color=”#4ba686″][/vc_column][/vc_row] \n
URL:https://rqas.com.au/event/friends-group-show-2026/
CATEGORIES:Exhibitions
ATTACH;FMTTYPE=image/jpeg:https://rqas.com.au/wp-content/uploads/2025/08/Website-and-event-banners-Friends-group-show-2026-1907-x-600-scaled.jpg
END:VEVENT
END:VCALENDAR