BEGIN:VCALENDAR
VERSION:2.0
PRODID:-//Royal QLD Art Society - ECPv5.0.3.1//NONSGML v1.0//EN
CALSCALE:GREGORIAN
METHOD:PUBLISH
X-WR-CALNAME:Royal QLD Art Society
X-ORIGINAL-URL:https://rqas.com.au
X-WR-CALDESC:Events for Royal QLD Art Society
BEGIN:VTIMEZONE
TZID:Australia/Brisbane
BEGIN:STANDARD
TZOFFSETFROM:+1000
TZOFFSETTO:+1000
TZNAME:AEST
DTSTART:20240101T000000
END:STANDARD
END:VTIMEZONE
BEGIN:VEVENT
DTSTART;VALUE=DATE:20240320
DTEND;VALUE=DATE:20240326
DTSTAMP:20260423T125512
CREATED:20231202T012651Z
LAST-MODIFIED:20231202T042145Z
UID:20681-1710892800-1711411199@rqas.com.au
SUMMARY:Contemplation
DESCRIPTION:[vc_row css=”.vc_custom_1523319263370{padding-top: 20px !important;padding-bottom: 30px !important;}”][vc_column][vc_column_text]After an incredible 2021 exhibition at Petrie Terrace Gallery\, where 50 paintings and drawings were sold\, Mark Andrews returns to the Gallery in March 2024. In 2022\, he held a successful solo exhibitions in Sydney and Melbourne\, and then again in Paddington\, Sydney through August and September 2023. \nMark is excited to be reuniting with RQAS to present his 6th solo show in four years titled Contemplation. This new exhibition showcases his multifaceted and unique abstract style\, and includes semi-realistic landscapes and cityscapes. His vibrant combinations of gouache and acrylics with ink and coloured pencil\, elevate his paintings and drawings to a level that’s highly collectible. \nContemplation will be on display at Petrie Terrace Gallery from Wednesday\, 20th of March to Monday\, 25th of March\, 2024. \nTo view more of Mark’s work you can visit his website[/vc_column_text][/vc_column][/vc_row][vc_row][vc_column][/vc_column][/vc_row][vc_row][vc_column][/vc_column][/vc_row] \n
URL:https://rqas.com.au/event/contemplation/
LOCATION:Petrie Terrace Gallery\, 3/162 Petrie Terrace\, Brisbane\, QLD\, 4000\, Australia
CATEGORIES:Exhibitions
ATTACH;FMTTYPE=image/jpeg:https://rqas.com.au/wp-content/uploads/2023/12/Contemplation-Mark-Anddrews-Website-image-1-scaled-e1701490652798.jpg
GEO:-27.4628152;153.0140797
X-APPLE-STRUCTURED-LOCATION;VALUE=URI;X-ADDRESS=Petrie Terrace Gallery 3/162 Petrie Terrace Brisbane QLD 4000 Australia;X-APPLE-RADIUS=500;X-TITLE=3/162 Petrie Terrace:geo:153.0140797,-27.4628152
END:VEVENT
END:VCALENDAR