BEGIN:VCALENDAR
VERSION:2.0
PRODID:-//Royal QLD Art Society - ECPv5.0.3.1//NONSGML v1.0//EN
CALSCALE:GREGORIAN
METHOD:PUBLISH
X-WR-CALNAME:Royal QLD Art Society
X-ORIGINAL-URL:https://rqas.com.au
X-WR-CALDESC:Events for Royal QLD Art Society
BEGIN:VTIMEZONE
TZID:Australia/Brisbane
BEGIN:STANDARD
TZOFFSETFROM:+1000
TZOFFSETTO:+1000
TZNAME:AEST
DTSTART:20260101T000000
END:STANDARD
END:VTIMEZONE
BEGIN:VEVENT
DTSTART;TZID=Australia/Brisbane:20260208T140000
DTEND;TZID=Australia/Brisbane:20260208T160000
DTSTAMP:20260426T020259
CREATED:20260114T032552Z
LAST-MODIFIED:20260114T032552Z
UID:25378-1770559200-1770566400@rqas.com.au
SUMMARY:ART TALKS - Rembrandt and the Expressive Potential of Etching
DESCRIPTION:[vc_row css=”.vc_custom_1523319263370{padding-top: 20px !important;padding-bottom: 30px !important;}”][vc_column][vc_column_text] \nThe Royal Queensland Art Society Brisbane Branch has great pleasure in inviting its members and the art loving community to our first ‘ART TALKS’ event of 2026: \n“Rembrandt and the Expressive Potential of Etching“\n  \nThis talk will be presented by Professor Ross Woodrow BA (Fine Arts) University of Queensland; Master and Doctor of Philosophy University of Sydney; Professor at Griffith University. Taking a selection of Rembrandt’s etchings along with examples by other master printmakers such as Callot\, Goya and Kollwitz\, Ross Woodrow will highlight Rembrandt’s innovative contributions to the medium. Attendees are welcome to bring a magnifying glass or loupe since only original etchings will be used as illustrative examples. \nProfessor Woodrow is an Australian research leader in the visual arts. His extensive personal experience as a printmaker and exhibitor\, as well as his considerable print collection\, are foundational to this presentation. \n  \nThis talk will be held at Petrie Terrace Gallery on Sunday\, 8th of February from 2pm to 4pm\, afternoon tea is included in the ticket price. \nTicket Prices:\n– $5 for RQAS Brisbane Members\n– $15 for the Public \nDon’t miss your chance to see this once in a lifetime presentation and enjoy the fellowship of other like-minded artists – book your tickets below now![/vc_column_text][vc_separator][vc_raw_html]JTNDJTIxLS0lMjBBZGQlMjB0aGUlMjBmb2xsb3dpbmclMjB0byUyMHlvdXIlMjB3ZWJzaXRlJTI3cyUyMEhUTUwuJTIwLS0lM0UlMEElM0NzY3JpcHQlMjBzcmMlM0QlMjJodHRwcyUzQSUyRiUyRmV2ZW50cy5odW1hbml0aXguY29tJTJGc2NyaXB0cyUyRndpZGdldHMlMkZpbmxpbmUuanMlMjIlMjB0eXBlJTNEJTIybW9kdWxlJTIyJTNFJTNDJTJGc2NyaXB0JTNFJTBBJTNDaWZyYW1lJTIwZGF0YS1jaGVja291dCUzRCUyMmFydC10YWxrcy1yZW1icmFuZHQtZXRjaGluZyUyMiUzRSUzQyUyRmlmcmFtZSUzRQ==[/vc_raw_html][/vc_column][/vc_row][vc_row][vc_column][/vc_column][/vc_row][vc_row][vc_column][/vc_column][/vc_row] \n
URL:https://rqas.com.au/event/art-talks-february-2026/
LOCATION:Petrie Terrace Gallery\, 3/162 Petrie Terrace\, Brisbane\, QLD\, 4000\, Australia
CATEGORIES:Special Events
ATTACH;FMTTYPE=image/jpeg:https://rqas.com.au/wp-content/uploads/2026/01/Etching-Rembrandts-Legacy-2.jpg
GEO:-27.4628152;153.0140797
X-APPLE-STRUCTURED-LOCATION;VALUE=URI;X-ADDRESS=Petrie Terrace Gallery 3/162 Petrie Terrace Brisbane QLD 4000 Australia;X-APPLE-RADIUS=500;X-TITLE=3/162 Petrie Terrace:geo:153.0140797,-27.4628152
END:VEVENT
END:VCALENDAR