BEGIN:VCALENDAR
VERSION:2.0
PRODID:-//Royal QLD Art Society - ECPv5.0.3.1//NONSGML v1.0//EN
CALSCALE:GREGORIAN
METHOD:PUBLISH
X-WR-CALNAME:Royal QLD Art Society
X-ORIGINAL-URL:https://rqas.com.au
X-WR-CALDESC:Events for Royal QLD Art Society
BEGIN:VTIMEZONE
TZID:Australia/Brisbane
BEGIN:STANDARD
TZOFFSETFROM:+1000
TZOFFSETTO:+1000
TZNAME:AEST
DTSTART:20250101T000000
END:STANDARD
END:VTIMEZONE
BEGIN:VEVENT
DTSTART;VALUE=DATE:20250731
DTEND;VALUE=DATE:20250825
DTSTAMP:20260424T181613
CREATED:20250219T052946Z
LAST-MODIFIED:20250625T054559Z
UID:23573-1753920000-1756079999@rqas.com.au
SUMMARY:Abstraction - 2025
DESCRIPTION:[vc_row css=”.vc_custom_1523319263370{padding-top: 20px !important;padding-bottom: 30px !important;}”][vc_column][vc_column_text] \nArtists are invited to submit artworks in their own media and style. This may range from art which includes recognisable forms as well as more expressive styles and pure abstraction\, or the entrant may be inspired by art movements such as Fauvism\, Dadaism or Cubism. We encourage all artists to show us their interpretation of an Abstract or Abstracted Artwork. \n  \nThe exhibition will be on show from Thursday\, 31st of July to Sunday\, 24th of August 2025. \n*Please note* the gallery will be closed on the Ekka Public Holiday on Wednesday\, 13th of August. \n  \nOpening and Awards Night\nOn Saturday\, 2nd of August at 7pm\, we invite you to the opening of the exhibition where we will be announcing the winners. Drinks will be available for purchase\, and nibbles will be provided. \nTicket prices: \n\nRQAS Brisbane Branch Members tickets: $5\nNon-Members tickets: $15\n\nPlease book your ticket via the Humanitix link below to secure an invite as numbers are limited![/vc_column_text][vc_raw_html]JTNDJTIxLS0lMjBBZGQlMjB0aGUlMjBmb2xsb3dpbmclMjB0byUyMHlvdXIlMjB3ZWJzaXRlJTI3cyUyMEhUTUwuJTIwLS0lM0UlMEElM0NzY3JpcHQlMjBzcmMlM0QlMjJodHRwcyUzQSUyRiUyRmV2ZW50cy5odW1hbml0aXguY29tJTJGc2NyaXB0cyUyRndpZGdldHMlMkZpbmxpbmUuanMlMjIlMjB0eXBlJTNEJTIybW9kdWxlJTIyJTNFJTNDJTJGc2NyaXB0JTNFJTBBJTNDaWZyYW1lJTIwZGF0YS1jaGVja291dCUzRCUyMjIwMjUtcnFhcy1hYnN0cmFjdGlvbi1vcGVuaW5nLW5pZ2h0JTIyJTNFJTNDJTJGaWZyYW1lJTNF[/vc_raw_html][vc_separator][/vc_column][/vc_row][vc_row][vc_column width=”1/4″][vc_single_image image=”22663″ img_size=”medium” alignment=”right” onclick=”custom_link” img_link_target=”_blank” link=”http://www.moore-australia.com.au/”][/vc_column][vc_column width=”3/4″][vc_column_text css=”.vc_custom_1749012551479{background-color: #ffffff !important;}”]The Royal Queensland Art Society is pleased to announce Moore Australia as the major sponsor for the 2025 Abstraction Exhibition. \nMoore Australia is a member of the Moore Global network.  With firms across Australia\, they provide a comprehensive 360-degree range of audit\, business\, tax\, accounting and consulting services. Working with a diverse portfolio of individuals and businesses of all sizes\, they service clients across Australia and internationally\, delivering tailored solutions that meet their client’s needs. \nWe thank Moore Australia for their ongoing sponsorship of the Royal Queensland Art Society\, and commitment to supporting the arts in Brisbane.[/vc_column_text][/vc_column][/vc_row][vc_row][vc_column][vc_separator][vc_column_text] \nINFORMATION FOR ARTISTS\n[/vc_column_text][vc_column_text] \n\nClick on the buttons below to view prizes\, event dates\, entry fees and terms and conditions: \n[/vc_column_text][vc_tta_tabs shape=”square” spacing=”10″ alignment=”center” active_section=”1″][vc_tta_section title=”EVENT DATES” tab_id=”dates”][vc_column_text] \nDATES\n[/vc_column_text][vc_separator color=”custom” border_width=”4″ el_width=”10″ accent_color=”#d25846″][vc_row_inner][vc_column_inner width=”1/6″][/vc_column_inner][vc_column_inner width=”2/3″][vc_table vc_table_theme=”classic” allow_html=”1″][bg#d05c49;c#ffffff]\,[bg#d05c49;c#ffffff;b]Event%20Activity\,[bg#d05c49;c#ffffff;b]Date|1\,Entry%20forms%20submitted%20to%20RQAS%20by%3A\,Wednesday%2025th%20June%203%3A30pm|2\,Bring%20in%20day-Artwork%20to%20be%20delivered%20to%20RQAS%3A\,Tuesday%2C%2029th%20of%20July%20%20between%2010am%20-%2012pm|3\,Exhibition%20Opens%20to%20Public%3A\,Thursday%2C%2031st%20of%20July%202025%2010%3A00am|4\,Opening%20Night%3A\,To%20be%20confirmed|5\,Exhibition%20closes%3A\,Sunday%2C%2024th%20of%20August%202025%203%3A30pm|6\,Bump%20out%20Day%20-%20pickup%20your%20work%3A\,Monday%2C%2025th%20of%20August%20between%2010am%20-%2012pm[/vc_table][/vc_column_inner][vc_column_inner width=”1/6″][/vc_column_inner][/vc_row_inner][/vc_tta_section][vc_tta_section title=”PRIZES” tab_id=”1739413614097-61ffef3d-5069″][vc_column_text] \nPRIZES\n[/vc_column_text][vc_separator color=”custom” border_width=”4″ el_width=”10″ accent_color=”#d25846″][vc_row_inner][vc_column_inner width=”1/6″][/vc_column_inner][vc_column_inner width=”2/3″][vc_column_text]In 2025 we are rethinking how we award prizes to recognise the achievements of our Artists. \nRather than 1st\, 2nd and 3rd\, for this exhibition\, three equal prizes will be awarded\, acknowledging that there may be a variety of styles and compositions of equal merit\, and worth of recognition for different reasons.[/vc_column_text][vc_table vc_table_theme=”classic” allow_html=”1″][bg#d05c49;c#ffffff]\,[bg#d05c49;c#ffffff;b]Prizes\,[bg#d05c49;c#ffffff;b]To%20the%20value%20of|1\,Three%20Equal%20Prizes\,%24500%20per%20artist|2\,Peoples%20Choice\,People%E2%80%99s%20choice%20will%20be%20awarded%20at%20the%20end%20of%20the%20Exhibition.%20Winner%20will%20receive%20free%20Membership%20to%20RQAS%20Brisbane%20Branch%20for%2012%20months.[/vc_table][/vc_column_inner][vc_column_inner width=”1/6″][/vc_column_inner][/vc_row_inner][/vc_tta_section][vc_tta_section title=”ENTRY FEES” tab_id=”entryfees”][vc_column_text] \nENTRY FEES\n[/vc_column_text][vc_separator color=”custom” border_width=”4″ el_width=”10″ accent_color=”#d25846″][vc_row_inner][vc_column_inner width=”1/6″][/vc_column_inner][vc_column_inner width=”2/3″][vc_table vc_table_theme=”classic” allow_html=”1″][bg#d05c49;c#ffffff;b]Entry%20Fee\,[bg#d05c49;c#ffffff;b]Description|%2450\,Per%20Artwork|%2430\,Per%20Artwork%20-%20RQAS%20Brisbane%20Branch%20Members[/vc_table][/vc_column_inner][vc_column_inner width=”1/6″][/vc_column_inner][/vc_row_inner][/vc_tta_section][vc_tta_section title=”TERMS AND CONDITIONS” tab_id=”1607945731535-a081cfe6-1ef9″][vc_column_text]TERMS & CONDITIONS \nEntry \n1.1 Entry fee $50 per artwork (RQAS Brisbane Branch Members $30). Entry fees are not refundable and non-transferrable. \n1.2 Entry forms can be completed either: \n\non the RQAS website\,\nemailed to: entries@rqas.com.au\n\n\nor are to be returned to Petrie Terrace Gallery at Unit 3\, 162 Petrie Terrace Brisbane.\n\n1.3   The successful completion and submission of the entry form\, image(s)\, process brief and payment will be considered as receipt of payment and entry only. The gallery will email you to confirm your place in the exhibition or if we need further information about your entry. \n1.4 A selection process will be conducted. After the submissions have been processed\, all artists will be advised if they have been selected as a finalist or not. Only finalists will have their work exhibited in the Gallery. \n1.5 Artwork must not have won a prize in any other competition. Artwork must not have been entered in an RQAS-sponsored competition in the last two years. \nDelivery \n2.1 Artworks to be delivered to the Gallery on bump in day  at 3/162 Petrie Terrace\, Brisbane\, QLD\, 4000. \n2.2 If you are not able to deliver at this time please contact the gallery to make alternative arrangements once your entry form has been submitted. \nArtwork \n3.1 Entries must be the original work of the exhibitor\, and not infringe the copyright\, moral rights or other rights of any third party. If you are submitting a portrait the entrant must have the subject’s consent to enter the artwork in this exhibition including ensuring they understand the artwork may be displayed to the public. \n3.2 This exhibition does not accept entries that were completed in whole or in part by Artificial Intelligence (AI). \n3.3 Exhibitors agree to images of their work being reproduced in print and online for promotional purposes\, to this end please include a digital jpeg file with your online entry or email to entries@rqas.com.au. Save file as “yourname_artworktitle” \n3.4 All works need to be easily carried by 1 person. \n3.5 Each artwork must not exceed 1.5m in width. \n3.6 Entries are accepted\, displayed\, and returned at the owner’s risk. Freight and insurance are also the owner’s responsibility. All care will be taken\, but no responsibility accepted for loss or damage. \n3.7 Any questions artists have during installation must be addressed to the Operations Manager or their representative. \n3.8 Should any dispute arise where no specific ruling is laid down the RQAS Brisbane Branch committee’s decision is final. \nPresentation  \n4.1 Artworks MUST be clean\, dry and professionally finished (such as\, but not limited to: squared up\, with no damage to work or frame). Any artwork not professionally finished will not be able to be placed on display. \n4.2 Framed or otherwise mounted artworks must be ready to hang using “D” rings placed approximately 5 -10cm from the top of the frame. Wire or string is not required. \n4.3 Clearly mark the artist’s name\, contact details\, title of work\, and price on the artwork. \n4.4 Artworks will only be displayed at the absolute discretion of the Gallery. \nWe will not display artwork deemed unsafe\, offensive\, or unsuitable. \n  \nSales \n5.1 Artwork must be for sale\, please allow for RQAS commission and any applicable GST when setting price. Artists aged 17yrs or under DO NOT have to list their artwork for sale\, but must notify gallery at time of entry. \n5.2 The gallery will charge 27.5% commission (including GST) on all sales. \n5.3 Artists will be paid for any sales after the end of the exhibition OR when artworks have been paid in full. \nPick up/Bump Out \n6.1 Entries may ONLY be picked up at the end of the exhibition. Bump out is Monday\, 25th of August between 10am – 12pm. \n6.2 Works not collected within three months of the exhibition closing date may be disposed of at the discretion of the RQAS Management Committee. \nEvents & Prizes \n7.1 All entrants and their guests must book in to the Opening event and purchase a ticket if they wish to attend. \n7.2 Prizes to the value of: \n  \n\n\n\nThree equal prizes \n \n$300 per artist\n\n\nPeople’s choice will be awarded at the end of the Exhibition. Winner will receive free Membership to RQAS Brisbane Branch for 12 months.\n\n\n\n[/vc_column_text][/vc_tta_section][vc_tta_section title=”PRESENTATION GUIDELINES” tab_id=”1672956571084-6a92bf6e-a33c”][vc_column_text] \nFinishing and Professionalism for Artwork Entered into RQAS Exhibitions\n  \nWhen entering artwork into RQAS exhibitions\, the artworks need to be presented and finished in a professional manner. This helps the gallery to create a cohesive exhibition with a professional look\, as well as ensuring the hanging process is easy and safe for our staff and volunteers. \nPLEASE REFER TO THE EXHIBITION TERMS & CONDITIONS FOR MINIMUM FRAMING REQUIREMENTS. \nArtworks must be clean\, dry and professionally finished before being delivered to the gallery. This includes cleaning the glass and wiping off any dust that may have accumulated while in storage. \nTo download guidelines and view images please click here \nPainted Edges & Framed Works \nIf works on stretched canvas are not framed the edges of the canvas must be cleanly finished. Artists may choose to paint the edge a single colour such as grey or a colour that complements the artwork\, see  Figure 1\, or you may complete the artwork in the “round” as in Figure 2. In the “round” means to extend the painting around the edge of the canvas. Essentially\, the edges should not have random marks\, such as fingerprints or paint drips. \nD Rings \nFramed artworks and works on canvas (or otherwise mounted) must be ready to hang on the wall using medium or large sized “D” rings placed approximately 5-10cm from the top of the frame. Attach hooks facing upwards and on the outside of the canvas frame\, as pictured in Figure 3. Wire or string is not required. However\, if you would like to add wire or string\, please see Figure 3. As you can see the wire is further down the canvas and is not attached to the top “D” ring. \nSquaring Up \nTo determine if a rectangular or square canvas is “square” or “squared up”\, measure the diagonal of the canvas/artwork\, and it should be the same length both ways. Please refer to Figure 4. \nFoxing & Mould \nFoxing is an age-related process of deterioration that causes spots and browning and can appear as brown\, yellow\, or red stains on the paper or canvas. If it appears on an artwork mat\, the work must be reframed with a new mat. If it appears on the canvas or paper\, it must be treated and repainted\, so it is not visible. \nArtwork Labels  \nClearly mark the artist’s name\, contact details\, the title of work\, and price on an artwork label\, to be placed on the back of the work. We need this information to easily identify your artwork before the exhibition labels (didactics) and catalogue are printed for the exhibition. Some artists choose to write this information on the back of the frame/canvas directly. You may also choose to include this on a removable/temporary label\, or on a permanent label or “Certificate of Authenticity”.[/vc_column_text][/vc_tta_section][/vc_tta_tabs][vc_separator][vc_column_text] \nEntries have now closed for Abstraction.\n[/vc_column_text][/vc_column][/vc_row][vc_row][vc_column][/vc_column][/vc_row][vc_row][vc_column][/vc_column][/vc_row] \n
URL:https://rqas.com.au/event/abstraction-2025/
CATEGORIES:Exhibitions
ATTACH;FMTTYPE=image/jpeg:https://rqas.com.au/wp-content/uploads/2024/12/Abstraction-1907-x-600-scaled.jpg
END:VEVENT
END:VCALENDAR